BEGIN:VCALENDAR
VERSION:2.0
PRODID:-//The Down Syndrome Association of Greater Charlotte - ECPv6.15.16//NONSGML v1.0//EN
CALSCALE:GREGORIAN
METHOD:PUBLISH
X-WR-CALNAME:The Down Syndrome Association of Greater Charlotte
X-ORIGINAL-URL:https://dsagreatercharlotte.org
X-WR-CALDESC:Events for The Down Syndrome Association of Greater Charlotte
REFRESH-INTERVAL;VALUE=DURATION:PT1H
X-Robots-Tag:noindex
X-PUBLISHED-TTL:PT1H
BEGIN:VTIMEZONE
TZID:America/New_York
BEGIN:DAYLIGHT
TZOFFSETFROM:-0500
TZOFFSETTO:-0400
TZNAME:EDT
DTSTART:20250309T070000
END:DAYLIGHT
BEGIN:STANDARD
TZOFFSETFROM:-0400
TZOFFSETTO:-0500
TZNAME:EST
DTSTART:20251102T060000
END:STANDARD
BEGIN:DAYLIGHT
TZOFFSETFROM:-0500
TZOFFSETTO:-0400
TZNAME:EDT
DTSTART:20260308T070000
END:DAYLIGHT
BEGIN:STANDARD
TZOFFSETFROM:-0400
TZOFFSETTO:-0500
TZNAME:EST
DTSTART:20261101T060000
END:STANDARD
BEGIN:DAYLIGHT
TZOFFSETFROM:-0500
TZOFFSETTO:-0400
TZNAME:EDT
DTSTART:20270314T070000
END:DAYLIGHT
BEGIN:STANDARD
TZOFFSETFROM:-0400
TZOFFSETTO:-0500
TZNAME:EST
DTSTART:20271107T060000
END:STANDARD
END:VTIMEZONE
BEGIN:VEVENT
DTSTART;TZID=America/New_York:20260419T140000
DTEND;TZID=America/New_York:20260419T153000
DTSTAMP:20260419T083134
CREATED:20260328T173729Z
LAST-MODIFIED:20260328T173729Z
UID:5334-1776607200-1776612600@dsagreatercharlotte.org
SUMMARY:UPside Club- Gastonia
DESCRIPTION:Field Day Fun with SOGC X DSAGC\nJoin us for an afternoon with the UPside Club at Stowe Family YMCA in Belmont…led by leaders and athletes of Special Olympics Gaston County. \n\nJoin us for a fun and active UPside Club event in collaboration with Special Olympics Gaston County and the Down Syndrome Association of Greater Charlotte! \nFriends from Gaston County and surrounding areas are invited to YMCA Belmont on Sunday\, April 19 from 2:00–3:30 PM for an exciting afternoon of movement\, teamwork\, and athletic activities designed for all abilities. Leaders of the Athlete group have planned and coordinated a great afternoon filled with a wide variety of fun games for the community. \nCome connect with friends\, stay active\, and enjoy a great community partnership event! \nAll levels of experience welcome. \nSee you there! \nEvent Details: \nDate: Sunday April 19\, 2026 \nTime: 2:00-3:30pm \nCost: Free. The DSAGC and SOGC is providing this event. \nWho: Friends of all ages 11 and up can join. \nLocation: 196 Park Dr. Belmont\, NC·(YMCA Stowe Family) \n\n  \nRegister here:THE DOWN SYNDROME ASSOCIATION OF GREATER CHARLOTTE INC – UPside Club- SOGC x DSAGC
URL:https://dsagreatercharlotte.org/events/upside-club-gastonia/
END:VEVENT
BEGIN:VEVENT
DTSTART;TZID=America/New_York:20260419T140000
DTEND;TZID=America/New_York:20260419T160000
DTSTAMP:20260419T083134
CREATED:20260220T180347Z
LAST-MODIFIED:20260328T174054Z
UID:5313-1776607200-1776614400@dsagreatercharlotte.org
SUMMARY:Lucky Few Family Fun Day- Mini Golf in Fort Mill
DESCRIPTION:Join our Family Fun Day for an afternoon at High Seas Mini Golf in Fort Mill. \n\nThe DSAGC will be hosting Mini Golf for friends/family in the community. Please register for the number of people coming and names. \nSee you there! \nEvent Details: \nDate: Sunday April 19\, 2026 \nTime: 2:00-4:00pm \nCost: Free. The DSAGC will provide 2 hrs of Putt Putt for families of the Ds community. Additional activities available for purchase. \nLocation: 10001 Charlotte Hwy\, Fort Mill\, SC 29707 \n\nRegister here: THE DOWN SYNDROME ASSOCIATION OF GREATER CHARLOTTE INC – Lucky Few Family Fun Day- Mini Golf in Fort Mills
URL:https://dsagreatercharlotte.org/events/upside-club-mini-golf-in-fort-mill/
END:VEVENT
END:VCALENDAR