BEGIN:VCALENDAR
VERSION:2.0
PRODID:-//The Down Syndrome Association of Greater Charlotte - ECPv6.15.16//NONSGML v1.0//EN
CALSCALE:GREGORIAN
METHOD:PUBLISH
X-WR-CALNAME:The Down Syndrome Association of Greater Charlotte
X-ORIGINAL-URL:https://dsagreatercharlotte.org
X-WR-CALDESC:Events for The Down Syndrome Association of Greater Charlotte
REFRESH-INTERVAL;VALUE=DURATION:PT1H
X-Robots-Tag:noindex
X-PUBLISHED-TTL:PT1H
BEGIN:VTIMEZONE
TZID:America/New_York
BEGIN:DAYLIGHT
TZOFFSETFROM:-0500
TZOFFSETTO:-0400
TZNAME:EDT
DTSTART:20210314T070000
END:DAYLIGHT
BEGIN:STANDARD
TZOFFSETFROM:-0400
TZOFFSETTO:-0500
TZNAME:EST
DTSTART:20211107T060000
END:STANDARD
BEGIN:DAYLIGHT
TZOFFSETFROM:-0500
TZOFFSETTO:-0400
TZNAME:EDT
DTSTART:20220313T070000
END:DAYLIGHT
BEGIN:STANDARD
TZOFFSETFROM:-0400
TZOFFSETTO:-0500
TZNAME:EST
DTSTART:20221106T060000
END:STANDARD
BEGIN:DAYLIGHT
TZOFFSETFROM:-0500
TZOFFSETTO:-0400
TZNAME:EDT
DTSTART:20230312T070000
END:DAYLIGHT
BEGIN:STANDARD
TZOFFSETFROM:-0400
TZOFFSETTO:-0500
TZNAME:EST
DTSTART:20231105T060000
END:STANDARD
END:VTIMEZONE
BEGIN:VEVENT
DTSTART;TZID=America/New_York:20220128T190000
DTEND;TZID=America/New_York:20220128T210000
DTSTAMP:20260422T081417
CREATED:20220113T233717Z
LAST-MODIFIED:20220113T233717Z
UID:3908-1643396400-1643403600@dsagreatercharlotte.org
SUMMARY:Snowflake Swing
DESCRIPTION:To start 2022 off with a blast\, we will be dancing the evening away at the SNOWFLAKE SWING!!! Next Step Clubhouse along with The Down Syndrome Association of Greater Charlotte and Best Buddies of North Carolina are tri-hosting this dance. In addition to great music by DJ JOEY\, there will be drinks\, snacks\, and desserts. The best part? This event is free to attend and you do not need a ticket to enter. Ages 14+
URL:https://dsagreatercharlotte.org/events/snowflake-swing/
LOCATION:Next Step Clubhouse\, 163 W 9th St\, Charlotte\, NC\, 28202\, United States
END:VEVENT
END:VCALENDAR